BEGIN:VCALENDAR
VERSION:2.0
PRODID:-//Music PEI - ECPv5.16.1.1//NONSGML v1.0//EN
CALSCALE:GREGORIAN
METHOD:PUBLISH
X-WR-CALNAME:Music PEI
X-ORIGINAL-URL:https://www.musicpei.com
X-WR-CALDESC:Events for Music PEI
REFRESH-INTERVAL;VALUE=DURATION:PT1H
X-Robots-Tag:noindex
X-PUBLISHED-TTL:PT1H
BEGIN:VTIMEZONE
TZID:America/Halifax
BEGIN:DAYLIGHT
TZOFFSETFROM:-0400
TZOFFSETTO:-0300
TZNAME:ADT
DTSTART:20240310T060000
END:DAYLIGHT
BEGIN:STANDARD
TZOFFSETFROM:-0300
TZOFFSETTO:-0400
TZNAME:AST
DTSTART:20241103T050000
END:STANDARD
END:VTIMEZONE
BEGIN:VEVENT
DTSTART;TZID=America/Halifax:20240308T200000
DTEND;TZID=America/Halifax:20240308T220000
DTSTAMP:20260422T130536
CREATED:20240125T150832Z
LAST-MODIFIED:20240125T150832Z
UID:7779-1709928000-1709935200@www.musicpei.com
SUMMARY:Music Mosaic Presented by
DESCRIPTION:Now a Music PEI Week staple\, we welcome back Music Mosaic with performances by Güiza\, Aubin pi la S.C.B\, Lefunk\, Tzu-Cheng Wang and The Umbrella Collective. Sponsored by Cavendish Farms\, doors are at 6:30PM and the show starts at 8PM at Trailside Music Hall.
URL:https://www.musicpei.com/event/music-mosaic-presented-by/
LOCATION:Trailside Music Hall\, 155 Kent Street\, Charlottetown
CATEGORIES:Music PEI Week 2024,Nominee Showcase
ORGANIZER;CN="Music%20PEI":MAILTO:music@musicpei.com
END:VEVENT
BEGIN:VEVENT
DTSTART;TZID=America/Halifax:20240308T193000
DTEND;TZID=America/Halifax:20240308T213000
DTSTAMP:20260422T130536
CREATED:20240125T150643Z
LAST-MODIFIED:20240125T150643Z
UID:7775-1709926200-1709933400@www.musicpei.com
SUMMARY:Tidal Tunes Presented by Souris Credit Union
DESCRIPTION:Souris Credit Union presents an incredible night of music at the Souris Show Hall with performances from Ava & Lily\, Emily MacLellan\, Pearly Gates\, Heather and Richard Wood.
URL:https://www.musicpei.com/event/tidal-tunes-presented-by-souris-credit-union/
LOCATION:Souris Show Hall\, 5 Church Ave\, Souris\, Prince Edward Island\, C0A 2B0\, Canada
CATEGORIES:Music PEI Week 2024,Nominee Showcase
ORGANIZER;CN="Music%20PEI":MAILTO:music@musicpei.com
END:VEVENT
BEGIN:VEVENT
DTSTART;TZID=America/Halifax:20240306T193000
DTEND;TZID=America/Halifax:20240306T213000
DTSTAMP:20260422T130536
CREATED:20240125T150039Z
LAST-MODIFIED:20240125T150039Z
UID:7771-1709753400-1709760600@www.musicpei.com
SUMMARY:Waveforms Nominee Showcase Presented by SaltWire
DESCRIPTION:Our kick-off to Music PEI Week features performances by Absolute Losers\, Julia Robichaud\, BraedenV\, Brooke MacArthur and Liam Corcoran. Join us at the Guild for our first night of incredible island music sponsored by SaltWire. Doors at 7:00PM and show starts at 7:30PM.
URL:https://www.musicpei.com/event/waveforms-nominee-showcase-presented-by-saltwire/
LOCATION:The Guild\, 111 Queen Street\, Charlottetown
CATEGORIES:Music PEI Week 2024,Nominee Showcase
ORGANIZER;CN="Music%20PEI":MAILTO:music@musicpei.com
END:VEVENT
BEGIN:VEVENT
DTSTART;TZID=America/Halifax:20240306T180000
DTEND;TZID=America/Halifax:20240306T190000
DTSTAMP:20260422T130536
CREATED:20240124T211606Z
LAST-MODIFIED:20240125T145736Z
UID:7749-1709748000-1709751600@www.musicpei.com
SUMMARY:Opening Reception Presented by SaltWire
DESCRIPTION:Join us in the Gallery at the Guild for a chance to mingle with our island music community as we kick off 2024 Music Week. Presented by SaltWire\, the admission is free and the conversation is priceless.
URL:https://www.musicpei.com/event/opening-reception/
LOCATION:The Guild\, 111 Queen Street\, Charlottetown
CATEGORIES:Music PEI Week 2024
ORGANIZER;CN="Music%20PEI":MAILTO:music@musicpei.com
END:VEVENT
END:VCALENDAR