BEGIN:VCALENDAR
VERSION:2.0
PRODID:-//Music PEI - ECPv5.16.1.1//NONSGML v1.0//EN
CALSCALE:GREGORIAN
METHOD:PUBLISH
X-WR-CALNAME:Music PEI
X-ORIGINAL-URL:https://www.musicpei.com
X-WR-CALDESC:Events for Music PEI
REFRESH-INTERVAL;VALUE=DURATION:PT1H
X-Robots-Tag:noindex
X-PUBLISHED-TTL:PT1H
BEGIN:VTIMEZONE
TZID:America/Halifax
BEGIN:DAYLIGHT
TZOFFSETFROM:-0400
TZOFFSETTO:-0300
TZNAME:ADT
DTSTART:20240310T060000
END:DAYLIGHT
BEGIN:STANDARD
TZOFFSETFROM:-0300
TZOFFSETTO:-0400
TZNAME:AST
DTSTART:20241103T050000
END:STANDARD
END:VTIMEZONE
BEGIN:VEVENT
DTSTART;VALUE=DATE:20240306
DTEND;VALUE=DATE:20240310
DTSTAMP:20260422T082008
CREATED:20240125T151934Z
LAST-MODIFIED:20240125T151953Z
UID:7789-1709683200-1710028799@www.musicpei.com
SUMMARY:Festival Pass
DESCRIPTION:Music lovers can take in the entire week of events at a discounted price!
URL:https://www.musicpei.com/event/festival-pass/
CATEGORIES:Music PEI Week 2024
ORGANIZER;CN="Music%20PEI":MAILTO:music@musicpei.com
END:VEVENT
BEGIN:VEVENT
DTSTART;TZID=America/Halifax:20240309T130000
DTEND;TZID=America/Halifax:20240309T150000
DTSTAMP:20260422T082008
CREATED:20240125T151100Z
LAST-MODIFIED:20240125T151100Z
UID:7781-1709989200-1709996400@www.musicpei.com
SUMMARY:Reprise! Presented by the Terra Nova Fund of PEI
DESCRIPTION:An excellent way to class up a wintry afternoon\, Reprise!\, sponsored by Terra Nova fund of PEI\, combines our nominees for Achievement in Classical/Jazz Music. The afternoon will feature performances by Sirens\, Luminos Ensemble\, Tiffany Liu and Dan Rowswell. Doors at 12:30PM and show at 1PM.
URL:https://www.musicpei.com/event/reprise-presented-by-the-terra-nova-fund-of-pei/
LOCATION:The Guild\, 111 Queen Street\, Charlottetown
CATEGORIES:Music PEI Week 2024,Nominee Showcase
ORGANIZER;CN="Music%20PEI":MAILTO:music@musicpei.com
END:VEVENT
BEGIN:VEVENT
DTSTART;TZID=America/Halifax:20240309T140000
DTEND;TZID=America/Halifax:20240309T160000
DTSTAMP:20260422T082008
CREATED:20240125T150300Z
LAST-MODIFIED:20240307T151508Z
UID:7773-1709992800-1710000000@www.musicpei.com
SUMMARY:Songwriter of the Year Concert Presented by SOCAN
DESCRIPTION:*RESCHEDULED* The ever-popular SOCAN Songwriter of the Year Concert will once again be held at St Paul’s Church on Saturday\, March 9th. Hosted by CBC Mainstreet’s Matt Rainnie\, this year’s concert will include performances by nominees Lennie Gallant\, Dylan Menzie\, Lawrence Maxwell and The East Pointers.
URL:https://www.musicpei.com/event/songwriter-of-the-year-concert-presented-by-socan/
LOCATION:St. Paul’s Church\, 101 Prince Street\, Charlottetown
CATEGORIES:Music PEI Week 2024
ORGANIZER;CN="Music%20PEI":MAILTO:music@musicpei.com
END:VEVENT
BEGIN:VEVENT
DTSTART;TZID=America/Halifax:20240309T200000
DTEND;TZID=America/Halifax:20240309T220000
DTSTAMP:20260422T082008
CREATED:20240125T151301Z
LAST-MODIFIED:20240125T151333Z
UID:7783-1710014400-1710021600@www.musicpei.com
SUMMARY:Costal Cadence Nominee Showcase Presented by Whitecap Entertainment
DESCRIPTION:Looking for an entertaining Saturday night? Look no further than the Guild for Coastal Cadence\, sponsored by Whitecap Entertainment. Coastal Cadence will feature performances by Rick Sparkes\, Rightflow\, Brad Milligan\, Nadia\, and Brandon Howard Roy. Doors at 7:30PM and show starts at 8PM.
URL:https://www.musicpei.com/event/costal-cadence-presented-by-whitecap-entertainment/
LOCATION:The Guild\, 111 Queen Street\, Charlottetown
CATEGORIES:Music PEI Week 2024,Nominee Showcase
ORGANIZER;CN="Music%20PEI":MAILTO:music@musicpei.com
END:VEVENT
END:VCALENDAR